BEGIN:VCALENDAR
VERSION:2.0
PRODID:-//Never Solo - ECPv6.15.20//NONSGML v1.0//EN
CALSCALE:GREGORIAN
METHOD:PUBLISH
X-WR-CALNAME:Never Solo
X-ORIGINAL-URL:https://neversolo.net
X-WR-CALDESC:Events for Never Solo
REFRESH-INTERVAL;VALUE=DURATION:PT1H
X-Robots-Tag:noindex
X-PUBLISHED-TTL:PT1H
BEGIN:VTIMEZONE
TZID:America/Los_Angeles
BEGIN:DAYLIGHT
TZOFFSETFROM:-0800
TZOFFSETTO:-0700
TZNAME:PDT
DTSTART:20250309T100000
END:DAYLIGHT
BEGIN:STANDARD
TZOFFSETFROM:-0700
TZOFFSETTO:-0800
TZNAME:PST
DTSTART:20251102T090000
END:STANDARD
BEGIN:DAYLIGHT
TZOFFSETFROM:-0800
TZOFFSETTO:-0700
TZNAME:PDT
DTSTART:20260308T100000
END:DAYLIGHT
BEGIN:STANDARD
TZOFFSETFROM:-0700
TZOFFSETTO:-0800
TZNAME:PST
DTSTART:20261101T090000
END:STANDARD
BEGIN:DAYLIGHT
TZOFFSETFROM:-0800
TZOFFSETTO:-0700
TZNAME:PDT
DTSTART:20270314T100000
END:DAYLIGHT
BEGIN:STANDARD
TZOFFSETFROM:-0700
TZOFFSETTO:-0800
TZNAME:PST
DTSTART:20271107T090000
END:STANDARD
END:VTIMEZONE
BEGIN:VEVENT
DTSTART;TZID=America/Los_Angeles:20260501T080000
DTEND;TZID=America/Los_Angeles:20260502T180000
DTSTAMP:20260417T210715
CREATED:20260304T050526Z
LAST-MODIFIED:20260304T050526Z
UID:3004-1777622400-1777744800@neversolo.net
SUMMARY:2026 Climbing Advocacy Conference
DESCRIPTION:Join us in Fayetteville\, WV on May 1 and 2\, 2026 for the Access Fund Annual Climbing Advocacy Conference. Never Solo will be present with a panel of speakers discussing the issues of Sexual Assault and Harassment in the climbing community and how we can come together to address these issues to broaden the culture of safety in our sport. \nEach year\, Access Fund unites the passionate leaders of the climbing advocacy community to celebrate our victories and tackle the challenges ahead. We bring together local climbing organizations\, land managers\, landowners\, climbing gyms\, gear companies\, land trusts\, and more to forge the future of climbing. Together\, we rally for progress\, ensuring that our beloved sport continues to thrive and inspire for generations to come. \nThis year\, we’ll meet in the climbing hub of the New River Gorge to experience incredible sandstone climbing and discuss both regional and national access issues. Mark your calendars for 2 days of presentations\, panels\, and conversations on protecting America’s climbing.
URL:https://neversolo.net/event/2026-climbing-advocacy-conference/
LOCATION:New River Gorge National Park & Preserve\, WV\, United States
ATTACH;FMTTYPE=image/jpeg:https://neversolo.net/wp-content/uploads/2026/03/FLEBEAU_2018_10_NRG-869.jpg
END:VEVENT
END:VCALENDAR